BEGIN:VCALENDAR
VERSION:2.0
PRODID:-//hacksw/handcal//NONSGML v1.0//EN
BEGIN:VEVENT
SUMMARY:PAS D'ACCES A STE LUCE
UID:7c0f2d9b-f6e5-4da3-8a12-ba2b1e2d8295
DTSTART:20260515T220000Z
DTEND:20260517T220000Z
LOCATION:Localisation   
CATEGORIES:Entrainement
STATUS:
DESCRIPTION:Salle fermee samedi + dimanche 
URL;VALUE=URI:https://www.asmc-arc.com/evenements/2026/05/16/pas-dacces-a-ste-luce-2444138
END:VEVENT
END:VCALENDAR
